BEGIN:VCALENDAR
VERSION:2.0
PRODID:-//Schaumburg-Hoffman Estates Alumnae Chapter - ECPv5.10.1//NONSGML v1.0//EN
CALSCALE:GREGORIAN
METHOD:PUBLISH
X-WR-CALNAME:Schaumburg-Hoffman Estates Alumnae Chapter
X-ORIGINAL-URL:https://dstschaumburg.org
X-WR-CALDESC:Events for Schaumburg-Hoffman Estates Alumnae Chapter
BEGIN:VTIMEZONE
TZID:America/Chicago
BEGIN:DAYLIGHT
TZOFFSETFROM:-0600
TZOFFSETTO:-0500
TZNAME:CDT
DTSTART:20220313T080000
END:DAYLIGHT
BEGIN:STANDARD
TZOFFSETFROM:-0500
TZOFFSETTO:-0600
TZNAME:CST
DTSTART:20221106T070000
END:STANDARD
END:VTIMEZONE
BEGIN:VEVENT
DTSTART;VALUE=DATE:20220113
DTEND;VALUE=DATE:20220114
DTSTAMP:20260419T154547
CREATED:20210826T183639Z
LAST-MODIFIED:20210826T183639Z
UID:566-1642032000-1642118399@dstschaumburg.org
SUMMARY:Founders Day
DESCRIPTION:
URL:https://dstschaumburg.org/event/founders-day/
ORGANIZER;CN="Membership%20Services%20Committee":MAILTO:membership@dstschaumburg.org
END:VEVENT
END:VCALENDAR