BEGIN:VCALENDAR
VERSION:2.0
PRODID:-//Schaumburg-Hoffman Estates Alumnae Chapter - ECPv5.10.1//NONSGML v1.0//EN
CALSCALE:GREGORIAN
METHOD:PUBLISH
X-WR-CALNAME:Schaumburg-Hoffman Estates Alumnae Chapter
X-ORIGINAL-URL:https://dstschaumburg.org
X-WR-CALDESC:Events for Schaumburg-Hoffman Estates Alumnae Chapter
BEGIN:VTIMEZONE
TZID:America/Chicago
BEGIN:DAYLIGHT
TZOFFSETFROM:-0600
TZOFFSETTO:-0500
TZNAME:CDT
DTSTART:20210314T080000
END:DAYLIGHT
BEGIN:STANDARD
TZOFFSETFROM:-0500
TZOFFSETTO:-0600
TZNAME:CST
DTSTART:20211107T070000
END:STANDARD
END:VTIMEZONE
BEGIN:VEVENT
DTSTART;TZID=America/Chicago:20211218T140000
DTEND;TZID=America/Chicago:20211218T170000
DTSTAMP:20260419T121331
CREATED:20220404T175354Z
LAST-MODIFIED:20220404T175354Z
UID:1492-1639836000-1639846800@dstschaumburg.org
SUMMARY:Holiday Party
DESCRIPTION:*only for members of Delta Sigmia Theta Sorority\, Incorporated
URL:https://dstschaumburg.org/event/holiday-party/
LOCATION:Granite City\, 801 Plaza Drive\, Schaumburg\, IL\, 60173\, United States
ORGANIZER;CN="Membership%20Services%20Committee":MAILTO:membership@dstschaumburg.org
END:VEVENT
END:VCALENDAR