BEGIN:VCALENDAR
VERSION:2.0
PRODID:-//Schaumburg-Hoffman Estates Alumnae Chapter - ECPv5.10.1//NONSGML v1.0//EN
CALSCALE:GREGORIAN
METHOD:PUBLISH
X-WR-CALNAME:Schaumburg-Hoffman Estates Alumnae Chapter
X-ORIGINAL-URL:https://dstschaumburg.org
X-WR-CALDESC:Events for Schaumburg-Hoffman Estates Alumnae Chapter
BEGIN:VTIMEZONE
TZID:America/Chicago
BEGIN:DAYLIGHT
TZOFFSETFROM:-0600
TZOFFSETTO:-0500
TZNAME:CDT
DTSTART:20220313T080000
END:DAYLIGHT
BEGIN:STANDARD
TZOFFSETFROM:-0500
TZOFFSETTO:-0600
TZNAME:CST
DTSTART:20221106T070000
END:STANDARD
END:VTIMEZONE
BEGIN:VEVENT
DTSTART;TZID=America/Chicago:20220501T100000
DTEND;TZID=America/Chicago:20220501T140000
DTSTAMP:20260422T181616
CREATED:20220404T172651Z
LAST-MODIFIED:20220404T173849Z
UID:1472-1651399200-1651413600@dstschaumburg.org
SUMMARY:March of Dimes "Walk for Babies"
DESCRIPTION:Our team\, Delta Sigma Theta – SHAC\, is part of the movement to create positive change for moms and babies everywhere\, especially those most at risk.  With preterm birth and maternal death rates continuing to rise\, we’re committed to raising funds so that every family gets the best possible start. And you can help us. \nPlease visit our fundraising page to make a donation. Together we’ll be part of a movement to make America a more equitable place and ensure that every mom and baby is healthy.
URL:https://dstschaumburg.org/event/march-of-dimes-walk-for-babies/
LOCATION:Wintrust Field\, 1999 S Springinsguth Rd\, Schaumburg\, IL\, 60193\, United States
ORGANIZER;CN="Physical%20%26%20Mental%20Health":MAILTO:pmh@dstschaumburg.org
END:VEVENT
END:VCALENDAR