BEGIN:VCALENDAR
VERSION:2.0
PRODID:-//Schaumburg-Hoffman Estates Alumnae Chapter - ECPv5.10.1//NONSGML v1.0//EN
CALSCALE:GREGORIAN
METHOD:PUBLISH
X-WR-CALNAME:Schaumburg-Hoffman Estates Alumnae Chapter
X-ORIGINAL-URL:https://dstschaumburg.org
X-WR-CALDESC:Events for Schaumburg-Hoffman Estates Alumnae Chapter
BEGIN:VTIMEZONE
TZID:America/Chicago
BEGIN:DAYLIGHT
TZOFFSETFROM:-0600
TZOFFSETTO:-0500
TZNAME:CDT
DTSTART:20220313T080000
END:DAYLIGHT
BEGIN:STANDARD
TZOFFSETFROM:-0500
TZOFFSETTO:-0600
TZNAME:CST
DTSTART:20221106T070000
END:STANDARD
END:VTIMEZONE
BEGIN:VEVENT
DTSTART;VALUE=DATE:20221015
DTEND;VALUE=DATE:20221101
DTSTAMP:20260422T193830
CREATED:20221011T212532Z
LAST-MODIFIED:20221011T212844Z
UID:1847-1665792000-1667260799@dstschaumburg.org
SUMMARY:Midwest Impact Day of Service 2022
DESCRIPTION:  October is Domestic Violence Awareness Month\, and the Schaumburg-Hoffman Estates Alumnae Chapter of Delta Sigma Theta Sorority\, Incorporated is dedicated to supporting domestic violence survivors.  Join us in purchase items from our Amazon Wishlist to be donated and shipped to the WINGS Program by clicking on the link: bit.ly/SHAC4Wings
URL:https://dstschaumburg.org/event/mids/
ORGANIZER;CN="Program%20Planning%20%26%20Development":MAILTO:1stvp@dstschaumburg.org
END:VEVENT
END:VCALENDAR