BEGIN:VCALENDAR
VERSION:2.0
PRODID:-//Schaumburg-Hoffman Estates Alumnae Chapter - ECPv5.10.1//NONSGML v1.0//EN
CALSCALE:GREGORIAN
METHOD:PUBLISH
X-WR-CALNAME:Schaumburg-Hoffman Estates Alumnae Chapter
X-ORIGINAL-URL:https://dstschaumburg.org
X-WR-CALDESC:Events for Schaumburg-Hoffman Estates Alumnae Chapter
BEGIN:VTIMEZONE
TZID:America/Chicago
BEGIN:DAYLIGHT
TZOFFSETFROM:-0600
TZOFFSETTO:-0500
TZNAME:CDT
DTSTART:20250309T080000
END:DAYLIGHT
BEGIN:STANDARD
TZOFFSETFROM:-0500
TZOFFSETTO:-0600
TZNAME:CST
DTSTART:20251102T070000
END:STANDARD
END:VTIMEZONE
BEGIN:VEVENT
DTSTART;TZID=America/Chicago:20250927T110000
DTEND;TZID=America/Chicago:20250927T150000
DTSTAMP:20260422T133957
CREATED:20250826T165628Z
LAST-MODIFIED:20250826T165628Z
UID:3604-1758970800-1758985200@dstschaumburg.org
SUMMARY:Community Day of Play
DESCRIPTION:
URL:https://dstschaumburg.org/event/community-day-of-play-2/
LOCATION:Boys & Girls Club of South Elgin\, 735 Martin Drive\, South Elgin\, IL\, 60177\, United States
ORGANIZER;CN="Physical%20%26%20Mental%20Health":MAILTO:pmh@dstschaumburg.org
END:VEVENT
END:VCALENDAR