BEGIN:VCALENDAR
VERSION:2.0
PRODID:-//Schaumburg-Hoffman Estates Alumnae Chapter - ECPv5.10.1//NONSGML v1.0//EN
CALSCALE:GREGORIAN
METHOD:PUBLISH
X-WR-CALNAME:Schaumburg-Hoffman Estates Alumnae Chapter
X-ORIGINAL-URL:https://dstschaumburg.org
X-WR-CALDESC:Events for Schaumburg-Hoffman Estates Alumnae Chapter
BEGIN:VTIMEZONE
TZID:America/Chicago
BEGIN:DAYLIGHT
TZOFFSETFROM:-0600
TZOFFSETTO:-0500
TZNAME:CDT
DTSTART:20250309T080000
END:DAYLIGHT
BEGIN:STANDARD
TZOFFSETFROM:-0500
TZOFFSETTO:-0600
TZNAME:CST
DTSTART:20251102T070000
END:STANDARD
END:VTIMEZONE
BEGIN:VEVENT
DTSTART;TZID=America/Chicago:20250823T120000
DTEND;TZID=America/Chicago:20250823T160000
DTSTAMP:20260422T165147
CREATED:20250716T202204Z
LAST-MODIFIED:20250716T202204Z
UID:3553-1755950400-1755964800@dstschaumburg.org
SUMMARY:DayDream 2025 - A Delta Day Party Fundraiser
DESCRIPTION:
URL:https://dstschaumburg.org/event/daydream-2025-a-delta-day-party-fundraiser/
LOCATION:Chandler’s Banquets\, 401 N Roselle Road\, Schaumburg\, IL\, 60194\, United States
ORGANIZER;CN="Fundraising%20Committee":MAILTO:fundraising@dstschaumburg.org
END:VEVENT
BEGIN:VEVENT
DTSTART;TZID=America/Chicago:20250906T100000
DTEND;TZID=America/Chicago:20250906T120000
DTSTAMP:20260422T165147
CREATED:20250826T164039Z
LAST-MODIFIED:20250826T164039Z
UID:3265-1757152800-1757160000@dstschaumburg.org
SUMMARY:Chapter Meeting
DESCRIPTION:
URL:https://dstschaumburg.org/event/chapter-meeting-33/
LOCATION:Schaumburg Township District Library\, 130 S. Roselle Road\, Schaumburg\, IL\, 60193\, United States
ORGANIZER;CN="Membership%20Services%20Committee":MAILTO:membership@dstschaumburg.org
END:VEVENT
BEGIN:VEVENT
DTSTART;TZID=America/Chicago:20250918T130000
DTEND;TZID=America/Chicago:20250918T183000
DTSTAMP:20260422T165147
CREATED:20250716T202612Z
LAST-MODIFIED:20250826T165418Z
UID:3555-1758200400-1758220200@dstschaumburg.org
SUMMARY:"Get Up\, Stand up for Sickle Cell" Blood Drive
DESCRIPTION:
URL:https://dstschaumburg.org/event/get-up-stand-up-for-sickle-cell-blood-drive/
LOCATION:The Centre of Elgin\, 100 Symphony Way\, Elgin\, IL\, 60120\, United States
ORGANIZER;CN="Emergency%20Response%20Team":MAILTO:ert@dstschaumburg.org
END:VEVENT
BEGIN:VEVENT
DTSTART;TZID=America/Chicago:20250920T130000
DTEND;TZID=America/Chicago:20250920T160000
DTSTAMP:20260422T165147
CREATED:20250826T165322Z
LAST-MODIFIED:20250826T165923Z
UID:3600-1758373200-1758384000@dstschaumburg.org
SUMMARY:2025 Chapter Roundup
DESCRIPTION:
URL:https://dstschaumburg.org/event/2025-chapter-foundup/
LOCATION:Park Place Park District\, 550 S. Park Blvd\, Streamwood\, IL\, United States
ORGANIZER;CN="Membership%20Services%20Committee":MAILTO:membership@dstschaumburg.org
END:VEVENT
BEGIN:VEVENT
DTSTART;TZID=America/Chicago:20250927T110000
DTEND;TZID=America/Chicago:20250927T150000
DTSTAMP:20260422T165147
CREATED:20250826T165628Z
LAST-MODIFIED:20250826T165628Z
UID:3604-1758970800-1758985200@dstschaumburg.org
SUMMARY:Community Day of Play
DESCRIPTION:
URL:https://dstschaumburg.org/event/community-day-of-play-2/
LOCATION:Boys & Girls Club of South Elgin\, 735 Martin Drive\, South Elgin\, IL\, 60177\, United States
ORGANIZER;CN="Physical%20%26%20Mental%20Health":MAILTO:pmh@dstschaumburg.org
END:VEVENT
BEGIN:VEVENT
DTSTART;TZID=America/Chicago:20251018T100000
DTEND;TZID=America/Chicago:20251018T120000
DTSTAMP:20260422T165147
CREATED:20250107T221200Z
LAST-MODIFIED:20250107T221200Z
UID:3267-1760781600-1760788800@dstschaumburg.org
SUMMARY:Chapter Meeting
DESCRIPTION:
URL:https://dstschaumburg.org/event/chapter-meeting-34/
LOCATION:IL
END:VEVENT
BEGIN:VEVENT
DTSTART;TZID=America/Chicago:20251115T100000
DTEND;TZID=America/Chicago:20251115T120000
DTSTAMP:20260422T165147
CREATED:20250107T221222Z
LAST-MODIFIED:20250107T221222Z
UID:3269-1763200800-1763208000@dstschaumburg.org
SUMMARY:Chapter Meeting
DESCRIPTION:
URL:https://dstschaumburg.org/event/chapter-meeting-35/
LOCATION:IL
END:VEVENT
BEGIN:VEVENT
DTSTART;TZID=America/Chicago:20251220T100000
DTEND;TZID=America/Chicago:20251220T120000
DTSTAMP:20260422T165147
CREATED:20250107T221245Z
LAST-MODIFIED:20250107T221245Z
UID:3271-1766224800-1766232000@dstschaumburg.org
SUMMARY:Chapter Meeting
DESCRIPTION:
URL:https://dstschaumburg.org/event/chapter-meeting-36/
LOCATION:IL
END:VEVENT
END:VCALENDAR