BEGIN:VCALENDAR
VERSION:2.0
PRODID:-//Schaumburg-Hoffman Estates Alumnae Chapter - ECPv5.10.1//NONSGML v1.0//EN
CALSCALE:GREGORIAN
METHOD:PUBLISH
X-WR-CALNAME:Schaumburg-Hoffman Estates Alumnae Chapter
X-ORIGINAL-URL:https://dstschaumburg.org
X-WR-CALDESC:Events for Schaumburg-Hoffman Estates Alumnae Chapter
BEGIN:VTIMEZONE
TZID:America/Chicago
BEGIN:DAYLIGHT
TZOFFSETFROM:-0600
TZOFFSETTO:-0500
TZNAME:CDT
DTSTART:20210314T080000
END:DAYLIGHT
BEGIN:STANDARD
TZOFFSETFROM:-0500
TZOFFSETTO:-0600
TZNAME:CST
DTSTART:20211107T070000
END:STANDARD
END:VTIMEZONE
BEGIN:VEVENT
DTSTART;VALUE=DATE:20210928
DTEND;VALUE=DATE:20210929
DTSTAMP:20260423T022452
CREATED:20210826T175942Z
LAST-MODIFIED:20210826T175942Z
UID:524-1632787200-1632873599@dstschaumburg.org
SUMMARY:National Voter Registration Day
DESCRIPTION:
URL:https://dstschaumburg.org/event/national-voter-registration-day/
ORGANIZER;CN="Social%20Action%20Committee":MAILTO:socialaction@dstschaumburg.org
END:VEVENT
BEGIN:VEVENT
DTSTART;VALUE=DATE:20210925
DTEND;VALUE=DATE:20210926
DTSTAMP:20260423T022452
CREATED:20210914T005450Z
LAST-MODIFIED:20210914T005522Z
UID:942-1632528000-1632614399@dstschaumburg.org
SUMMARY:St. Jude Virtual Walk/Run
DESCRIPTION:http://bit.ly/SHAC4STJUDE
URL:https://dstschaumburg.org/event/st-jude-virtual-walk-run/
ORGANIZER;CN="Physical%20%26%20Mental%20Health":MAILTO:pmh@dstschaumburg.org
END:VEVENT
BEGIN:VEVENT
DTSTART;TZID=America/Chicago:20210918T100000
DTEND;TZID=America/Chicago:20210918T120000
DTSTAMP:20260423T022452
CREATED:20210826T175839Z
LAST-MODIFIED:20210826T175839Z
UID:522-1631959200-1631966400@dstschaumburg.org
SUMMARY:Chapter Meeting
DESCRIPTION:*only for members of Delta Sigma Theta Sorority\, Incorporated
URL:https://dstschaumburg.org/event/chapter-meeting/
ORGANIZER;CN="Membership%20Services%20Committee":MAILTO:membership@dstschaumburg.org
END:VEVENT
BEGIN:VEVENT
DTSTART;VALUE=DATE:20210913
DTEND;VALUE=DATE:20210928
DTSTAMP:20260423T022452
CREATED:20210826T175635Z
LAST-MODIFIED:20220404T180207Z
UID:517-1631491200-1632787199@dstschaumburg.org
SUMMARY:Popcorn Fundraiser
DESCRIPTION:bit.ly/SHACPopcorn
URL:https://dstschaumburg.org/event/popcorn-fundraiser/
ORGANIZER;CN="Fundraising%20Committee":MAILTO:fundraising@dstschaumburg.org
END:VEVENT
BEGIN:VEVENT
DTSTART;TZID=America/Chicago:20210829T140000
DTEND;TZID=America/Chicago:20210829T153000
DTSTAMP:20260423T022452
CREATED:20210825T214942Z
LAST-MODIFIED:20220404T180429Z
UID:485-1630245600-1630251000@dstschaumburg.org
SUMMARY:Roundup 2021
DESCRIPTION:*only for members of Delta Sigma Theta Sorority\, Incorporated
URL:https://dstschaumburg.org/event/roundup-2021/
LOCATION:via Zoom
ORGANIZER;CN="Membership%20Services%20Committee":MAILTO:membership@dstschaumburg.org
END:VEVENT
BEGIN:VEVENT
DTSTART;TZID=America/Chicago:20210814T120000
DTEND;TZID=America/Chicago:20210814T140000
DTSTAMP:20260423T022452
CREATED:20210826T001838Z
LAST-MODIFIED:20210827T202737Z
UID:510-1628942400-1628949600@dstschaumburg.org
SUMMARY:4th Annual Elgin Back to School Bash
DESCRIPTION:
URL:https://dstschaumburg.org/event/4th-annual-elgin-back-to-school-bash/
LOCATION:Wing Park\, Elgin\, IL\, United States
ORGANIZER;CN="Scholarship%20%26%20Education%20Committee":MAILTO:education@dstschaumburg.org
END:VEVENT
END:VCALENDAR