BEGIN:VCALENDAR
VERSION:2.0
PRODID:-//Schaumburg-Hoffman Estates Alumnae Chapter - ECPv5.10.1//NONSGML v1.0//EN
CALSCALE:GREGORIAN
METHOD:PUBLISH
X-WR-CALNAME:Schaumburg-Hoffman Estates Alumnae Chapter
X-ORIGINAL-URL:https://dstschaumburg.org
X-WR-CALDESC:Events for Schaumburg-Hoffman Estates Alumnae Chapter
BEGIN:VTIMEZONE
TZID:America/Chicago
BEGIN:DAYLIGHT
TZOFFSETFROM:-0600
TZOFFSETTO:-0500
TZNAME:CDT
DTSTART:20240310T080000
END:DAYLIGHT
BEGIN:STANDARD
TZOFFSETFROM:-0500
TZOFFSETTO:-0600
TZNAME:CST
DTSTART:20241103T070000
END:STANDARD
BEGIN:DAYLIGHT
TZOFFSETFROM:-0600
TZOFFSETTO:-0500
TZNAME:CDT
DTSTART:20250309T080000
END:DAYLIGHT
BEGIN:STANDARD
TZOFFSETFROM:-0500
TZOFFSETTO:-0600
TZNAME:CST
DTSTART:20251102T070000
END:STANDARD
END:VTIMEZONE
BEGIN:VEVENT
DTSTART;VALUE=DATE:20250106
DTEND;VALUE=DATE:20250107
DTSTAMP:20260422T171411
CREATED:20250107T201850Z
LAST-MODIFIED:20250107T201850Z
UID:3247-1736121600-1736207999@dstschaumburg.org
SUMMARY:PTK Scholarship 2025 Opens
DESCRIPTION:Apply HERE through March 1st!
URL:https://dstschaumburg.org/event/ptk-scholarship-2025-opens/
END:VEVENT
BEGIN:VEVENT
DTSTART;TZID=America/Chicago:20241231T203000
DTEND;TZID=America/Chicago:20241231T203000
DTSTAMP:20260422T171411
CREATED:20241225T184512Z
LAST-MODIFIED:20241226T181552Z
UID:2502-1735677000-1735677000@dstschaumburg.org
SUMMARY:New Year's Eve Gala
DESCRIPTION:  \n \nPurchase tickets HERE
URL:https://dstschaumburg.org/event/new-years-eve-gala/
LOCATION:Chicago Marriott Schaumburg\, 50 N. Martingale Rd.\, Schaumburg\, IL\, 60173
ORGANIZER;CN="Fundraising%20Committee":MAILTO:fundraising@dstschaumburg.org
END:VEVENT
BEGIN:VEVENT
DTSTART;TZID=America/Chicago:20241221T100000
DTEND;TZID=America/Chicago:20241221T120000
DTSTAMP:20260422T171411
CREATED:20240322T214046Z
LAST-MODIFIED:20240322T214046Z
UID:2994-1734775200-1734782400@dstschaumburg.org
SUMMARY:Chapter Meeting
DESCRIPTION:*only for members of Delta Sigma Theta Sorority\, Incorporated
URL:https://dstschaumburg.org/event/chapter-meeting-26/
LOCATION:Palatine Library\, 700 N. North Ct.\, Palatine\, Illinois\, 60067
ORGANIZER;CN="Membership%20Services%20Committee":MAILTO:membership@dstschaumburg.org
END:VEVENT
BEGIN:VEVENT
DTSTART;TZID=America/Chicago:20241212T170000
DTEND;TZID=America/Chicago:20241212T190000
DTSTAMP:20260422T171411
CREATED:20240322T214904Z
LAST-MODIFIED:20240322T214904Z
UID:3006-1734022800-1734030000@dstschaumburg.org
SUMMARY:Crisis Center Holiday Party
DESCRIPTION:
URL:https://dstschaumburg.org/event/crisis-center-holiday-party-2/
ORGANIZER;CN="Physical%20%26%20Mental%20Health":MAILTO:pmh@dstschaumburg.org
END:VEVENT
BEGIN:VEVENT
DTSTART;TZID=America/Chicago:20241207T120000
DTEND;TZID=America/Chicago:20241207T170000
DTSTAMP:20260422T171411
CREATED:20240322T214644Z
LAST-MODIFIED:20240322T214644Z
UID:3003-1733572800-1733590800@dstschaumburg.org
SUMMARY:Chapter Holiday Party
DESCRIPTION:
URL:https://dstschaumburg.org/event/chapter-holiday-party/
ORGANIZER;CN="Membership%20Services%20Committee":MAILTO:membership@dstschaumburg.org
END:VEVENT
BEGIN:VEVENT
DTSTART;TZID=America/Chicago:20241116T100000
DTEND;TZID=America/Chicago:20241116T120000
DTSTAMP:20260422T171411
CREATED:20240322T214010Z
LAST-MODIFIED:20240322T214010Z
UID:2992-1731751200-1731758400@dstschaumburg.org
SUMMARY:Chapter Meeting
DESCRIPTION:*only for members of Delta Sigma Theta Sorority\, Incorporated
URL:https://dstschaumburg.org/event/chapter-meeting-25/
LOCATION:Palatine Library\, 700 N. North Ct.\, Palatine\, Illinois\, 60067
ORGANIZER;CN="Membership%20Services%20Committee":MAILTO:membership@dstschaumburg.org
END:VEVENT
BEGIN:VEVENT
DTSTART;TZID=America/Chicago:20241026T100000
DTEND;TZID=America/Chicago:20241026T140000
DTSTAMP:20260422T171411
CREATED:20240923T113850Z
LAST-MODIFIED:20240923T113944Z
UID:3172-1729936800-1729951200@dstschaumburg.org
SUMMARY:Community Day of Play
DESCRIPTION:
URL:https://dstschaumburg.org/event/community-day-of-play/
LOCATION:Roosevelt University – Schaumburg Campus\, 1400 N. Roosevelt Blvd\, Schaumburg\, IL\, 60173\, United States
END:VEVENT
BEGIN:VEVENT
DTSTART;TZID=America/Chicago:20241019T100000
DTEND;TZID=America/Chicago:20241019T120000
DTSTAMP:20260422T171411
CREATED:20240322T213930Z
LAST-MODIFIED:20240912T023005Z
UID:2990-1729332000-1729339200@dstschaumburg.org
SUMMARY:Chapter Meeting
DESCRIPTION:*only for members of Delta Sigma Theta Sorority\, Incorporated \n 
URL:https://dstschaumburg.org/event/chapter-meeting-24/
ORGANIZER;CN="Membership%20Services%20Committee":MAILTO:membership@dstschaumburg.org
END:VEVENT
BEGIN:VEVENT
DTSTART;TZID=America/Chicago:20240928T120000
DTEND;TZID=America/Chicago:20240928T143000
DTSTAMP:20260422T171411
CREATED:20240908T153007Z
LAST-MODIFIED:20240908T163527Z
UID:2997-1727524800-1727533800@dstschaumburg.org
SUMMARY:Chapter Round-Up
DESCRIPTION:Let’s round up for a celebration\, connection and memories you won’t want to miss.\n\nTickets available NOW!  Deadline to purchase: 9.21\nSecure your spot today!\n\nPurchase your tickets here: https://bit.ly/SHACALLSTARS24\n 
URL:https://dstschaumburg.org/event/chapter-round-up/
END:VEVENT
BEGIN:VEVENT
DTSTART;TZID=America/Chicago:20240921T100000
DTEND;TZID=America/Chicago:20240921T120000
DTSTAMP:20260422T171411
CREATED:20240322T213837Z
LAST-MODIFIED:20240908T163801Z
UID:2988-1726912800-1726920000@dstschaumburg.org
SUMMARY:Chapter Meeting
DESCRIPTION:*only for members of Delta Sigma Theta Sorority\, Incorporated \nPlease check your email for updated location.
URL:https://dstschaumburg.org/event/chapter-meeting-22/
ORGANIZER;CN="Membership%20Services%20Committee":MAILTO:membership@dstschaumburg.org
END:VEVENT
BEGIN:VEVENT
DTSTART;VALUE=DATE:20240801
DTEND;VALUE=DATE:20240805
DTSTAMP:20260422T171411
CREATED:20240320T235021Z
LAST-MODIFIED:20240320T235021Z
UID:2985-1722470400-1722815999@dstschaumburg.org
SUMMARY:Regional Conference
DESCRIPTION:
URL:https://dstschaumburg.org/event/regional-conference/
END:VEVENT
BEGIN:VEVENT
DTSTART;TZID=America/Chicago:20240622T080000
DTEND;TZID=America/Chicago:20240622T170000
DTSTAMP:20260422T171411
CREATED:20240320T234411Z
LAST-MODIFIED:20240320T234411Z
UID:2982-1719043200-1719075600@dstschaumburg.org
SUMMARY:Schaumburg Juneteenth
DESCRIPTION:
URL:https://dstschaumburg.org/event/schaumburg-juneteenth/
END:VEVENT
BEGIN:VEVENT
DTSTART;TZID=America/Chicago:20240615T100000
DTEND;TZID=America/Chicago:20240615T120000
DTSTAMP:20260422T171411
CREATED:20231109T193404Z
LAST-MODIFIED:20231109T194718Z
UID:2425-1718445600-1718452800@dstschaumburg.org
SUMMARY:Chapter Meeting
DESCRIPTION:*only for members of Delta Sigma Theta Sorority\, Incorporated
URL:https://dstschaumburg.org/event/chapter-meeting-6-15/
LOCATION:Palatine Library\, 700 N. North Ct.\, Palatine\, Illinois\, 60067
ORGANIZER;CN="Membership%20Services%20Committee":MAILTO:membership@dstschaumburg.org
END:VEVENT
BEGIN:VEVENT
DTSTART;TZID=America/Chicago:20240602T080000
DTEND;TZID=America/Chicago:20240602T120000
DTSTAMP:20260422T171411
CREATED:20231119T235941Z
LAST-MODIFIED:20240320T234107Z
UID:2516-1717315200-1717329600@dstschaumburg.org
SUMMARY:March of Dimes Walk
DESCRIPTION:
URL:https://dstschaumburg.org/event/march-of-dimes-walk/
LOCATION:TBD
ORGANIZER;CN="Physical%20%26%20Mental%20Health":MAILTO:pmh@dstschaumburg.org
END:VEVENT
BEGIN:VEVENT
DTSTART;TZID=America/Chicago:20240518T100000
DTEND;TZID=America/Chicago:20240518T120000
DTSTAMP:20260422T171411
CREATED:20231109T195316Z
LAST-MODIFIED:20231109T195316Z
UID:2428-1716026400-1716033600@dstschaumburg.org
SUMMARY:Chapter Meeting
DESCRIPTION:*only for members of Delta Sigma Theta Sorority\, Incorporated
URL:https://dstschaumburg.org/event/chapter-meeting-5-18/
LOCATION:Palatine Library\, 700 N. North Ct.\, Palatine\, Illinois\, 60067
ORGANIZER;CN="Membership%20Services%20Committee":MAILTO:membership@dstschaumburg.org
END:VEVENT
BEGIN:VEVENT
DTSTART;TZID=America/Chicago:20240505T070000
DTEND;TZID=America/Chicago:20240505T230000
DTSTAMP:20260422T171411
CREATED:20231120T001748Z
LAST-MODIFIED:20231120T001748Z
UID:2524-1714892400-1714950000@dstschaumburg.org
SUMMARY:Illinois Statewide Sisterhood Reunion
DESCRIPTION:
URL:https://dstschaumburg.org/event/illinois-statewide-sisterhood-reunion-3/
LOCATION:Chicago Marriott Schaumburg\, 50 N. Martingale Rd.\, Schaumburg\, IL\, 60173
END:VEVENT
BEGIN:VEVENT
DTSTART;TZID=America/Chicago:20240504T070000
DTEND;TZID=America/Chicago:20240504T230000
DTSTAMP:20260422T171411
CREATED:20231120T001704Z
LAST-MODIFIED:20231120T001704Z
UID:2522-1714806000-1714863600@dstschaumburg.org
SUMMARY:Illinois Statewide Sisterhood Reunion
DESCRIPTION:
URL:https://dstschaumburg.org/event/illinois-statewide-sisterhood-reunion-2/
LOCATION:Chicago Marriott Schaumburg\, 50 N. Martingale Rd.\, Schaumburg\, IL\, 60173
END:VEVENT
BEGIN:VEVENT
DTSTART;TZID=America/Chicago:20240503T070000
DTEND;TZID=America/Chicago:20240503T230000
DTSTAMP:20260422T171411
CREATED:20231119T235741Z
LAST-MODIFIED:20231120T001554Z
UID:2512-1714719600-1714777200@dstschaumburg.org
SUMMARY:Illinois Statewide Sisterhood Reunion
DESCRIPTION:
URL:https://dstschaumburg.org/event/illinois-statewide-sisterhood-reunion/
LOCATION:Chicago Marriott Schaumburg\, 50 N. Martingale Rd.\, Schaumburg\, IL\, 60173
END:VEVENT
BEGIN:VEVENT
DTSTART;VALUE=DATE:20240501
DTEND;VALUE=DATE:20240502
DTSTAMP:20260422T171411
CREATED:20231119T234926Z
LAST-MODIFIED:20231119T234926Z
UID:2506-1714521600-1714607999@dstschaumburg.org
SUMMARY:DDSC
DESCRIPTION:
URL:https://dstschaumburg.org/event/ddsc/
ORGANIZER;CN="Social%20Action%20Committee":MAILTO:socialaction@dstschaumburg.org
END:VEVENT
BEGIN:VEVENT
DTSTART;TZID=America/Chicago:20240427T190000
DTEND;TZID=America/Chicago:20240427T220000
DTSTAMP:20260422T171411
CREATED:20240320T233758Z
LAST-MODIFIED:20240320T233758Z
UID:2980-1714244400-1714255200@dstschaumburg.org
SUMMARY:United Black Scholarship Banquet
DESCRIPTION:
URL:https://dstschaumburg.org/event/united-black-scholarship-banquet/
ORGANIZER;CN="Scholarship%20Committee":MAILTO:scholarship@dstschaumburg.org
END:VEVENT
BEGIN:VEVENT
DTSTART;TZID=America/Chicago:20240420T100000
DTEND;TZID=America/Chicago:20240420T120000
DTSTAMP:20260422T171411
CREATED:20231109T195520Z
LAST-MODIFIED:20231109T195520Z
UID:2430-1713607200-1713614400@dstschaumburg.org
SUMMARY:Chapter Meeting
DESCRIPTION:*only for members of Delta Sigma Theta Sorority\, Incorporated
URL:https://dstschaumburg.org/event/chapter-meeting-4-20/
LOCATION:Palatine Library\, 700 N. North Ct.\, Palatine\, Illinois\, 60067
ORGANIZER;CN="Membership%20Services%20Committee":MAILTO:membership@dstschaumburg.org
END:VEVENT
BEGIN:VEVENT
DTSTART;TZID=America/Chicago:20240406T100000
DTEND;TZID=America/Chicago:20240406T130000
DTSTAMP:20260422T171411
CREATED:20240414T220032Z
LAST-MODIFIED:20240414T220537Z
UID:2498-1712397600-1712408400@dstschaumburg.org
SUMMARY:Financial Literacy Webinar
DESCRIPTION: 
URL:https://dstschaumburg.org/event/financial-literacy/
LOCATION:via Zoom
ORGANIZER;CN="Economic%20Development%20Committee":MAILTO:economicdevelopment@dstschaumburg.org
END:VEVENT
BEGIN:VEVENT
DTSTART;TZID=America/Chicago:20240316T100000
DTEND;TZID=America/Chicago:20240316T120000
DTSTAMP:20260422T171411
CREATED:20231109T195645Z
LAST-MODIFIED:20231109T195645Z
UID:2432-1710583200-1710590400@dstschaumburg.org
SUMMARY:Chapter Meeting
DESCRIPTION:*only for members of Delta Sigma Theta Sorority\, Incorporated
URL:https://dstschaumburg.org/event/chapter-meeting-3-16/
LOCATION:Palatine Library\, 700 N. North Ct.\, Palatine\, Illinois\, 60067
ORGANIZER;CN="Membership%20Services%20Committee":MAILTO:membership@dstschaumburg.org
END:VEVENT
BEGIN:VEVENT
DTSTART;TZID=America/Chicago:20240313T190000
DTEND;TZID=America/Chicago:20240313T203000
DTSTAMP:20260422T171411
CREATED:20231119T233600Z
LAST-MODIFIED:20231119T233600Z
UID:2494-1710356400-1710361800@dstschaumburg.org
SUMMARY:Candidate Forum
DESCRIPTION:
URL:https://dstschaumburg.org/event/candidate-forum/
LOCATION:TBD
ORGANIZER;CN="Social%20Action%20Committee":MAILTO:socialaction@dstschaumburg.org
END:VEVENT
BEGIN:VEVENT
DTSTART;VALUE=DATE:20240309
DTEND;VALUE=DATE:20240310
DTSTAMP:20260422T171411
CREATED:20240219T133005Z
LAST-MODIFIED:20240314T041041Z
UID:2490-1709942400-1710028799@dstschaumburg.org
SUMMARY:Career Fair
DESCRIPTION:
URL:https://dstschaumburg.org/event/career-fair/
LOCATION:TBD
ORGANIZER;CN="Educational%20Development%20Committee":MAILTO:education@dstschaumburg.org
END:VEVENT
BEGIN:VEVENT
DTSTART;VALUE=DATE:20240308
DTEND;VALUE=DATE:20240313
DTSTAMP:20260422T171411
CREATED:20231119T233253Z
LAST-MODIFIED:20231119T233253Z
UID:2492-1709856000-1710287999@dstschaumburg.org
SUMMARY:DDNC
DESCRIPTION:
URL:https://dstschaumburg.org/event/ddnc/
ORGANIZER;CN="Social%20Action%20Committee":MAILTO:socialaction@dstschaumburg.org
END:VEVENT
BEGIN:VEVENT
DTSTART;VALUE=DATE:20240302
DTEND;VALUE=DATE:20240303
DTSTAMP:20260422T171411
CREATED:20231119T232807Z
LAST-MODIFIED:20231119T232807Z
UID:2488-1709337600-1709423999@dstschaumburg.org
SUMMARY:SHAC 33rd Charter Anniversary
DESCRIPTION:
URL:https://dstschaumburg.org/event/shac-33rd-charter-anniversary/
END:VEVENT
BEGIN:VEVENT
DTSTART;VALUE=DATE:20240301
DTEND;VALUE=DATE:20240302
DTSTAMP:20260422T171411
CREATED:20240219T140300Z
LAST-MODIFIED:20240219T182306Z
UID:2520-1709251200-1709337599@dstschaumburg.org
SUMMARY:Sisterhood Month
DESCRIPTION:
URL:https://dstschaumburg.org/event/sisterhood-month/
ORGANIZER;CN="Membership%20Services%20Committee":MAILTO:membership@dstschaumburg.org
END:VEVENT
BEGIN:VEVENT
DTSTART;TZID=America/Chicago:20240217T100000
DTEND;TZID=America/Chicago:20240217T120000
DTSTAMP:20260422T171411
CREATED:20231109T200343Z
LAST-MODIFIED:20231109T200343Z
UID:2436-1708164000-1708171200@dstschaumburg.org
SUMMARY:Chapter Meeting
DESCRIPTION:*only for members of Delta Sigma Theta Sorority\, Incorporated
URL:https://dstschaumburg.org/event/chapter-meeting-2-17/
LOCATION:via Zoom
ORGANIZER;CN="Membership%20Services%20Committee":MAILTO:membership@dstschaumburg.org
END:VEVENT
BEGIN:VEVENT
DTSTART;TZID=America/Chicago:20240210T100000
DTEND;TZID=America/Chicago:20240210T120000
DTSTAMP:20260422T171411
CREATED:20240120T212358Z
LAST-MODIFIED:20240210T150748Z
UID:2486-1707559200-1707566400@dstschaumburg.org
SUMMARY:Virtual Mental Health Conference
DESCRIPTION:
URL:https://dstschaumburg.org/event/virtual-mental-health-conference/
LOCATION:via Zoom
ORGANIZER;CN="Physical%20%26%20Mental%20Health":MAILTO:pmh@dstschaumburg.org
END:VEVENT
END:VCALENDAR