BEGIN:VCALENDAR
VERSION:2.0
PRODID:-//Schaumburg-Hoffman Estates Alumnae Chapter - ECPv5.10.1//NONSGML v1.0//EN
CALSCALE:GREGORIAN
METHOD:PUBLISH
X-WR-CALNAME:Schaumburg-Hoffman Estates Alumnae Chapter
X-ORIGINAL-URL:https://dstschaumburg.org
X-WR-CALDESC:Events for Schaumburg-Hoffman Estates Alumnae Chapter
BEGIN:VTIMEZONE
TZID:America/Chicago
BEGIN:DAYLIGHT
TZOFFSETFROM:-0600
TZOFFSETTO:-0500
TZNAME:CDT
DTSTART:20210314T080000
END:DAYLIGHT
BEGIN:STANDARD
TZOFFSETFROM:-0500
TZOFFSETTO:-0600
TZNAME:CST
DTSTART:20211107T070000
END:STANDARD
BEGIN:DAYLIGHT
TZOFFSETFROM:-0600
TZOFFSETTO:-0500
TZNAME:CDT
DTSTART:20220313T080000
END:DAYLIGHT
BEGIN:STANDARD
TZOFFSETFROM:-0500
TZOFFSETTO:-0600
TZNAME:CST
DTSTART:20221106T070000
END:STANDARD
END:VTIMEZONE
BEGIN:VEVENT
DTSTART;TZID=America/Chicago:20220910T110000
DTEND;TZID=America/Chicago:20220910T150000
DTSTAMP:20260422T212139
CREATED:20220820T183024Z
LAST-MODIFIED:20221031T023056Z
UID:1657-1662807600-1662822000@dstschaumburg.org
SUMMARY:Reclamation Celebration 2022
DESCRIPTION:
URL:https://dstschaumburg.org/event/round-up-2022/
LOCATION:Magnolia’s Weddings & Events\, 389 Bartlett Plaza\, Bartlett\, IL\, 60103
ORGANIZER;CN="Membership%20Services%20Committee":MAILTO:membership@dstschaumburg.org
END:VEVENT
BEGIN:VEVENT
DTSTART;TZID=America/Chicago:20220619T130000
DTEND;TZID=America/Chicago:20220619T160000
DTSTAMP:20260422T212139
CREATED:20220404T172311Z
LAST-MODIFIED:20220511T233259Z
UID:1467-1655643600-1655654400@dstschaumburg.org
SUMMARY:Juneteenth Celebration
DESCRIPTION:
URL:https://dstschaumburg.org/event/juneteenth-celebration/
LOCATION:Village of Schaumburg Town Square\, 130 S. Roselle Road\, Schaumburg\, IL\, 60193
ORGANIZER;CN="Program%20Planning%20%26%20Development":MAILTO:1stvp@dstschaumburg.org
END:VEVENT
BEGIN:VEVENT
DTSTART;TZID=America/Chicago:20220618T100000
DTEND;TZID=America/Chicago:20220618T120000
DTSTAMP:20260422T212139
CREATED:20210826T185313Z
LAST-MODIFIED:20210826T185313Z
UID:600-1655546400-1655553600@dstschaumburg.org
SUMMARY:Chapter Meeting
DESCRIPTION:*only for members of Delta Sigma Theta Sorority\, Incorporated
URL:https://dstschaumburg.org/event/chapter-meeting-10/
ORGANIZER;CN="Membership%20Services%20Committee":MAILTO:membership@dstschaumburg.org
END:VEVENT
BEGIN:VEVENT
DTSTART;TZID=America/Chicago:20220521T100000
DTEND;TZID=America/Chicago:20220521T120000
DTSTAMP:20260422T212139
CREATED:20210826T185129Z
LAST-MODIFIED:20210826T185129Z
UID:593-1653127200-1653134400@dstschaumburg.org
SUMMARY:Chapter Meeting
DESCRIPTION:*only for members of Delta Sigma Theta Sorority\, Incorporated
URL:https://dstschaumburg.org/event/chapter-meeting-9/
ORGANIZER;CN="Membership%20Services%20Committee":MAILTO:membership@dstschaumburg.org
END:VEVENT
BEGIN:VEVENT
DTSTART;TZID=America/Chicago:20220507T100000
DTEND;TZID=America/Chicago:20220507T120000
DTSTAMP:20260422T212139
CREATED:20210826T182901Z
LAST-MODIFIED:20210826T184444Z
UID:544-1651917600-1651924800@dstschaumburg.org
SUMMARY:Delta G.E.M.S. & Academy Session
DESCRIPTION:The Dr. Betty Shabazz Delta Academy and the Dr. Jeanne L Noble G.E.M.S. Institute are national programs to help teenage girls between the ages of 11-18 (or grades 6-12) develop strong leadership skills.  The mission of the Delta Academy and G.E.M.S. is to provide young ladies with a firm structural program that will enhance their self-esteem; academic achievement; leadership skills; and cultural awareness. \nPlease register at: https://bit.ly/SHACYouth
URL:https://dstschaumburg.org/event/delta-g-e-m-s-academy-session-8/
ORGANIZER;CN="Educational%20Development%20Committee":MAILTO:education@dstschaumburg.org
END:VEVENT
BEGIN:VEVENT
DTSTART;TZID=America/Chicago:20220505T180000
DTEND;TZID=America/Chicago:20220505T193000
DTSTAMP:20260422T212139
CREATED:20220103T162013Z
LAST-MODIFIED:20220511T232732Z
UID:1270-1651773600-1651779000@dstschaumburg.org
SUMMARY:National Day of Prayer
DESCRIPTION:
URL:https://dstschaumburg.org/event/national-day-of-prayer/
LOCATION:via Zoom
ORGANIZER;CN="Chaplain%27s%20Council":MAILTO:chaplain@dstschaumburg.org
END:VEVENT
BEGIN:VEVENT
DTSTART;TZID=America/Chicago:20220501T100000
DTEND;TZID=America/Chicago:20220501T140000
DTSTAMP:20260422T212139
CREATED:20220404T172651Z
LAST-MODIFIED:20220404T173849Z
UID:1472-1651399200-1651413600@dstschaumburg.org
SUMMARY:March of Dimes "Walk for Babies"
DESCRIPTION:Our team\, Delta Sigma Theta – SHAC\, is part of the movement to create positive change for moms and babies everywhere\, especially those most at risk.  With preterm birth and maternal death rates continuing to rise\, we’re committed to raising funds so that every family gets the best possible start. And you can help us. \nPlease visit our fundraising page to make a donation. Together we’ll be part of a movement to make America a more equitable place and ensure that every mom and baby is healthy.
URL:https://dstschaumburg.org/event/march-of-dimes-walk-for-babies/
LOCATION:Wintrust Field\, 1999 S Springinsguth Rd\, Schaumburg\, IL\, 60193\, United States
ORGANIZER;CN="Physical%20%26%20Mental%20Health":MAILTO:pmh@dstschaumburg.org
END:VEVENT
BEGIN:VEVENT
DTSTART;TZID=America/Chicago:20220422T190000
DTEND;TZID=America/Chicago:20220422T210000
DTSTAMP:20260422T212139
CREATED:20220404T173737Z
LAST-MODIFIED:20220404T174105Z
UID:1477-1650654000-1650661200@dstschaumburg.org
SUMMARY:Delta-palooza Virtual Music Fundraiser
DESCRIPTION:
URL:https://dstschaumburg.org/event/delta-palooza-virtual-music-fundraiser/
LOCATION:via Twitch
ORGANIZER;CN="Fundraising%20Committee":MAILTO:fundraising@dstschaumburg.org
END:VEVENT
BEGIN:VEVENT
DTSTART;VALUE=DATE:20220422
DTEND;VALUE=DATE:20220515
DTSTAMP:20260422T212139
CREATED:20220404T173440Z
LAST-MODIFIED:20220404T174134Z
UID:1475-1650585600-1652572799@dstschaumburg.org
SUMMARY:1991 Anniversary Fundraiser
DESCRIPTION:
URL:https://dstschaumburg.org/event/1991-anniversary-fundraiser/
ORGANIZER;CN="Fundraising%20Committee":MAILTO:fundraising@dstschaumburg.org
END:VEVENT
BEGIN:VEVENT
DTSTART;TZID=America/Chicago:20220416T100000
DTEND;TZID=America/Chicago:20220416T120000
DTSTAMP:20260422T212139
CREATED:20210826T184415Z
LAST-MODIFIED:20210826T184415Z
UID:589-1650103200-1650110400@dstschaumburg.org
SUMMARY:Chapter Meeting
DESCRIPTION:*only for members of Delta Sigma Theta Sorority\, Incorporated
URL:https://dstschaumburg.org/event/chapter-meeting-8/
ORGANIZER;CN="Membership%20Services%20Committee":MAILTO:membership@dstschaumburg.org
END:VEVENT
BEGIN:VEVENT
DTSTART;TZID=America/Chicago:20220409T100000
DTEND;TZID=America/Chicago:20220409T113000
DTSTAMP:20260422T212139
CREATED:20210826T184356Z
LAST-MODIFIED:20220404T175712Z
UID:587-1649498400-1649503800@dstschaumburg.org
SUMMARY:Invest Like a Pro II/Fantasy Investing Challenge
DESCRIPTION:
URL:https://dstschaumburg.org/event/invest-like-a-pro-fantasy-investing-challenge/
LOCATION:via Zoom
ORGANIZER;CN="Economic%20Development%20Committee":MAILTO:economicdevelopment@dstschaumburg.org
END:VEVENT
BEGIN:VEVENT
DTSTART;VALUE=DATE:20220403
DTEND;VALUE=DATE:20220515
DTSTAMP:20260422T212139
CREATED:20220404T174502Z
LAST-MODIFIED:20220404T175806Z
UID:1484-1648944000-1652572799@dstschaumburg.org
SUMMARY:Reclaim Your Rhythm Challenge
DESCRIPTION:
URL:https://dstschaumburg.org/event/reclaim-your-rhythm-challenge/
ORGANIZER;CN="Physical%20%26%20Mental%20Health":MAILTO:pmh@dstschaumburg.org
END:VEVENT
BEGIN:VEVENT
DTSTART;TZID=America/Chicago:20220402T100000
DTEND;TZID=America/Chicago:20220402T120000
DTSTAMP:20260422T212139
CREATED:20210826T182834Z
LAST-MODIFIED:20210826T182834Z
UID:542-1648893600-1648900800@dstschaumburg.org
SUMMARY:Delta G.E.M.S. & Academy Session
DESCRIPTION:The Dr. Betty Shabazz Delta Academy and the Dr. Jeanne L Noble G.E.M.S. Institute are national programs to help teenage girls between the ages of 11-18 (or grades 6-12) develop strong leadership skills.  The mission of the Delta Academy and G.E.M.S. is to provide young ladies with a firm structural program that will enhance their self-esteem; academic achievement; leadership skills; and cultural awareness. \nPlease register at: https://bit.ly/SHACYouth
URL:https://dstschaumburg.org/event/delta-g-e-m-s-academy-session-7/
ORGANIZER;CN="Educational%20Development%20Committee":MAILTO:education@dstschaumburg.org
END:VEVENT
BEGIN:VEVENT
DTSTART;TZID=America/Chicago:20220326T090000
DTEND;TZID=America/Chicago:20220326T110000
DTSTAMP:20260422T212139
CREATED:20220404T174905Z
LAST-MODIFIED:20220404T174905Z
UID:1488-1648285200-1648292400@dstschaumburg.org
SUMMARY:Virtual Line Dancing Event
DESCRIPTION:
URL:https://dstschaumburg.org/event/virtual-line-dancing-event/
LOCATION:via Zoom
ORGANIZER;CN="Physical%20%26%20Mental%20Health":MAILTO:pmh@dstschaumburg.org
END:VEVENT
BEGIN:VEVENT
DTSTART;TZID=America/Chicago:20220319T100000
DTEND;TZID=America/Chicago:20220319T120000
DTSTAMP:20260422T212139
CREATED:20210826T184223Z
LAST-MODIFIED:20210826T184223Z
UID:583-1647684000-1647691200@dstschaumburg.org
SUMMARY:Chapter Meeting
DESCRIPTION:*only for members of Delta Sigma Theta Sorority\, Incorporated
URL:https://dstschaumburg.org/event/chapter-meeting-7/
ORGANIZER;CN="Membership%20Services%20Committee":MAILTO:membership@dstschaumburg.org
END:VEVENT
BEGIN:VEVENT
DTSTART;TZID=America/Chicago:20220305T100000
DTEND;TZID=America/Chicago:20220305T120000
DTSTAMP:20260422T212139
CREATED:20210826T182814Z
LAST-MODIFIED:20210826T182814Z
UID:540-1646474400-1646481600@dstschaumburg.org
SUMMARY:Delta G.E.M.S. & Academy Session
DESCRIPTION:The Dr. Betty Shabazz Delta Academy and the Dr. Jeanne L Noble G.E.M.S. Institute are national programs to help teenage girls between the ages of 11-18 (or grades 6-12) develop strong leadership skills.  The mission of the Delta Academy and G.E.M.S. is to provide young ladies with a firm structural program that will enhance their self-esteem; academic achievement; leadership skills; and cultural awareness. \nPlease register at: https://bit.ly/SHACYouth
URL:https://dstschaumburg.org/event/delta-g-e-m-s-academy-session-6/
ORGANIZER;CN="Educational%20Development%20Committee":MAILTO:education@dstschaumburg.org
END:VEVENT
BEGIN:VEVENT
DTSTART;TZID=America/Chicago:20220219T100000
DTEND;TZID=America/Chicago:20220219T120000
DTSTAMP:20260422T212139
CREATED:20210826T183954Z
LAST-MODIFIED:20210826T183954Z
UID:577-1645264800-1645272000@dstschaumburg.org
SUMMARY:Chapter Meeting
DESCRIPTION:*only for members of Delta Sigma Theta Sorority\, Incorporated
URL:https://dstschaumburg.org/event/chapter-meeting-6/
ORGANIZER;CN="Membership%20Services%20Committee":MAILTO:membership@dstschaumburg.org
END:VEVENT
BEGIN:VEVENT
DTSTART;TZID=America/Chicago:20220205T100000
DTEND;TZID=America/Chicago:20220205T120000
DTSTAMP:20260422T212139
CREATED:20210826T182756Z
LAST-MODIFIED:20210826T182756Z
UID:537-1644055200-1644062400@dstschaumburg.org
SUMMARY:Delta G.E.M.S. & Academy Session
DESCRIPTION:The Dr. Betty Shabazz Delta Academy and the Dr. Jeanne L Noble G.E.M.S. Institute are national programs to help teenage girls between the ages of 11-18 (or grades 6-12) develop strong leadership skills.  The mission of the Delta Academy and G.E.M.S. is to provide young ladies with a firm structural program that will enhance their self-esteem; academic achievement; leadership skills; and cultural awareness. \nPlease register at: https://bit.ly/SHACYouth
URL:https://dstschaumburg.org/event/delta-g-e-m-s-academy-session-5/
ORGANIZER;CN="Educational%20Development%20Committee":MAILTO:education@dstschaumburg.org
END:VEVENT
BEGIN:VEVENT
DTSTART;VALUE=DATE:20220204
DTEND;VALUE=DATE:20220205
DTSTAMP:20260422T212139
CREATED:20210826T183841Z
LAST-MODIFIED:20210826T183841Z
UID:572-1643932800-1644019199@dstschaumburg.org
SUMMARY:Go Red Day!
DESCRIPTION:
URL:https://dstschaumburg.org/event/go-red-day/
ORGANIZER;CN="Physical%20%26%20Mental%20Health":MAILTO:pmh@dstschaumburg.org
END:VEVENT
BEGIN:VEVENT
DTSTART;VALUE=DATE:20220201
DTEND;VALUE=DATE:20220304
DTSTAMP:20260422T212139
CREATED:20210826T184307Z
LAST-MODIFIED:20220404T174646Z
UID:585-1643673600-1646351999@dstschaumburg.org
SUMMARY:Collegiate Connection Virtual Stroll-Off Event
DESCRIPTION:
URL:https://dstschaumburg.org/event/collegiate-connection-event-2/
ORGANIZER;CN="Collegiate%20Connection%20Committee":MAILTO:collegiateconnection@dstschaumburg.org
END:VEVENT
BEGIN:VEVENT
DTSTART;TZID=America/Chicago:20220115T070000
DTEND;TZID=America/Chicago:20220115T090000
DTSTAMP:20260422T212139
CREATED:20210826T183706Z
LAST-MODIFIED:20220103T161607Z
UID:568-1642230000-1642237200@dstschaumburg.org
SUMMARY:Chapter Meeting
DESCRIPTION:*only for members of Delta Sigma Theta Sorority\, Incorporated
URL:https://dstschaumburg.org/event/chapter-meeting-5/
ORGANIZER;CN="Membership%20Services%20Committee":MAILTO:membership@dstschaumburg.org
END:VEVENT
BEGIN:VEVENT
DTSTART;VALUE=DATE:20220113
DTEND;VALUE=DATE:20220114
DTSTAMP:20260422T212139
CREATED:20210826T183639Z
LAST-MODIFIED:20210826T183639Z
UID:566-1642032000-1642118399@dstschaumburg.org
SUMMARY:Founders Day
DESCRIPTION:
URL:https://dstschaumburg.org/event/founders-day/
ORGANIZER;CN="Membership%20Services%20Committee":MAILTO:membership@dstschaumburg.org
END:VEVENT
BEGIN:VEVENT
DTSTART;TZID=America/Chicago:20220108T100000
DTEND;TZID=America/Chicago:20220108T120000
DTSTAMP:20260422T212139
CREATED:20210826T182731Z
LAST-MODIFIED:20210826T182731Z
UID:535-1641636000-1641643200@dstschaumburg.org
SUMMARY:Delta G.E.M.S. & Academy Session
DESCRIPTION:The Dr. Betty Shabazz Delta Academy and the Dr. Jeanne L Noble G.E.M.S. Institute are national programs to help teenage girls between the ages of 11-18 (or grades 6-12) develop strong leadership skills.  The mission of the Delta Academy and G.E.M.S. is to provide young ladies with a firm structural program that will enhance their self-esteem; academic achievement; leadership skills; and cultural awareness. \nPlease register at: https://bit.ly/SHACYouth
URL:https://dstschaumburg.org/event/delta-g-e-m-s-academy-session-4/
ORGANIZER;CN="Educational%20Development%20Committee":MAILTO:education@dstschaumburg.org
END:VEVENT
BEGIN:VEVENT
DTSTART;TZID=America/Chicago:20211218T140000
DTEND;TZID=America/Chicago:20211218T170000
DTSTAMP:20260422T212139
CREATED:20220404T175354Z
LAST-MODIFIED:20220404T175354Z
UID:1492-1639836000-1639846800@dstschaumburg.org
SUMMARY:Holiday Party
DESCRIPTION:*only for members of Delta Sigmia Theta Sorority\, Incorporated
URL:https://dstschaumburg.org/event/holiday-party/
LOCATION:Granite City\, 801 Plaza Drive\, Schaumburg\, IL\, 60173\, United States
ORGANIZER;CN="Membership%20Services%20Committee":MAILTO:membership@dstschaumburg.org
END:VEVENT
BEGIN:VEVENT
DTSTART;TZID=America/Chicago:20211218T100000
DTEND;TZID=America/Chicago:20211218T120000
DTSTAMP:20260422T212139
CREATED:20210826T183603Z
LAST-MODIFIED:20210826T183603Z
UID:564-1639821600-1639828800@dstschaumburg.org
SUMMARY:Chapter Meeting
DESCRIPTION:*only for members of Delta Sigma Theta Sorority\, Incorporated
URL:https://dstschaumburg.org/event/chapter-meeting-4/
ORGANIZER;CN="Membership%20Services%20Committee":MAILTO:membership@dstschaumburg.org
END:VEVENT
BEGIN:VEVENT
DTSTART;TZID=America/Chicago:20211204T100000
DTEND;TZID=America/Chicago:20211204T120000
DTSTAMP:20260422T212139
CREATED:20210826T182705Z
LAST-MODIFIED:20210826T182705Z
UID:533-1638612000-1638619200@dstschaumburg.org
SUMMARY:Delta G.E.M.S. & Academy Session
DESCRIPTION:The Dr. Betty Shabazz Delta Academy and the Dr. Jeanne L Noble G.E.M.S. Institute are national programs to help teenage girls between the ages of 11-18 (or grades 6-12) develop strong leadership skills.  The mission of the Delta Academy and G.E.M.S. is to provide young ladies with a firm structural program that will enhance their self-esteem; academic achievement; leadership skills; and cultural awareness. \nPlease register at: https://bit.ly/SHACYouth
URL:https://dstschaumburg.org/event/delta-g-e-m-s-academy-session-3/
ORGANIZER;CN="Educational%20Development%20Committee":MAILTO:education@dstschaumburg.org
END:VEVENT
BEGIN:VEVENT
DTSTART;VALUE=DATE:20211201
DTEND;VALUE=DATE:20211202
DTSTAMP:20260422T212139
CREATED:20210826T183532Z
LAST-MODIFIED:20210826T183532Z
UID:561-1638316800-1638403199@dstschaumburg.org
SUMMARY:World AIDS Day
DESCRIPTION:
URL:https://dstschaumburg.org/event/world-aids-day/
ORGANIZER;CN="International%20Awareness%20%26%20Involvement%20Committee":MAILTO:iai@dstschaumburg.org
END:VEVENT
BEGIN:VEVENT
DTSTART;TZID=America/Chicago:20211116T190000
DTEND;TZID=America/Chicago:20211116T210000
DTSTAMP:20260422T212139
CREATED:20211026T151645Z
LAST-MODIFIED:20220404T175505Z
UID:1131-1637089200-1637096400@dstschaumburg.org
SUMMARY:Voting Rights: Bringing History Up to Date with a Focus on Illinois
DESCRIPTION:
URL:https://dstschaumburg.org/event/voting-rights-bringing-history-up-to-date-with-a-focus-on-illinois/
LOCATION:via Zoom
ORGANIZER;CN="Social%20Action%20Committee":MAILTO:socialaction@dstschaumburg.org
END:VEVENT
BEGIN:VEVENT
DTSTART;TZID=America/Chicago:20211114T160000
DTEND;TZID=America/Chicago:20211114T173000
DTSTAMP:20260422T212139
CREATED:20210826T183453Z
LAST-MODIFIED:20220404T175633Z
UID:558-1636905600-1636911000@dstschaumburg.org
SUMMARY:Virtual Literary Cafe
DESCRIPTION:We are pleased to announce the Virtual Literary Café on Sunday\, November 14\, 2021 from 4-5:30 p.m. CST via Zoom. \n\n\n\n\nJoin us as we discuss What Passes as Love by Trisha R. Thomas\, recipient of the Literary Lion Award and a finalist for the NAACP Image Award for Outstanding Literary Work. \nClick HERE to register today! \n 
URL:https://dstschaumburg.org/event/virtual-literary-cafe/
LOCATION:via Zoom
ORGANIZER;CN="Arts%20%26%20Letters%20Committee":MAILTO:artsletters@dstschaumburg.org
END:VEVENT
BEGIN:VEVENT
DTSTART;TZID=America/Chicago:20211113T100000
DTEND;TZID=America/Chicago:20211113T120000
DTSTAMP:20260422T212139
CREATED:20210826T183405Z
LAST-MODIFIED:20211026T151242Z
UID:556-1636797600-1636804800@dstschaumburg.org
SUMMARY:Chapter Meeting
DESCRIPTION:*only for members of Delta Sigma Theta Sorority\, Incorporated
URL:https://dstschaumburg.org/event/chapter-meeting-3/
ORGANIZER;CN="Membership%20Services%20Committee":MAILTO:membership@dstschaumburg.org
END:VEVENT
END:VCALENDAR