BEGIN:VCALENDAR
VERSION:2.0
PRODID:-//Schaumburg-Hoffman Estates Alumnae Chapter - ECPv5.10.1//NONSGML v1.0//EN
CALSCALE:GREGORIAN
METHOD:PUBLISH
X-WR-CALNAME:Schaumburg-Hoffman Estates Alumnae Chapter
X-ORIGINAL-URL:https://dstschaumburg.org
X-WR-CALDESC:Events for Schaumburg-Hoffman Estates Alumnae Chapter
BEGIN:VTIMEZONE
TZID:America/Chicago
BEGIN:DAYLIGHT
TZOFFSETFROM:-0600
TZOFFSETTO:-0500
TZNAME:CDT
DTSTART:20250309T080000
END:DAYLIGHT
BEGIN:STANDARD
TZOFFSETFROM:-0500
TZOFFSETTO:-0600
TZNAME:CST
DTSTART:20251102T070000
END:STANDARD
END:VTIMEZONE
BEGIN:VEVENT
DTSTART;VALUE=DATE:20250301
DTEND;VALUE=DATE:20250302
DTSTAMP:20260422T215435
CREATED:20250107T060050Z
LAST-MODIFIED:20250404T225615Z
UID:2472-1740787200-1740873599@dstschaumburg.org
SUMMARY:SHAC + Profit Through Knowledge Scholarship Application Deadline
DESCRIPTION:
URL:https://dstschaumburg.org/event/shac-profit-through-knowledge-scholarship-application-deadline/
LOCATION:IL
ORGANIZER;CN="Scholarship%20Committee":MAILTO:scholarship@dstschaumburg.org
END:VEVENT
BEGIN:VEVENT
DTSTART;TZID=America/Chicago:20250315T100000
DTEND;TZID=America/Chicago:20250315T120000
DTSTAMP:20260422T215435
CREATED:20250107T220220Z
LAST-MODIFIED:20250107T220220Z
UID:3257-1742032800-1742040000@dstschaumburg.org
SUMMARY:Chapter Meeting
DESCRIPTION:
URL:https://dstschaumburg.org/event/chapter-meeting-29/
LOCATION:IL
END:VEVENT
END:VCALENDAR